BEGIN:VCALENDAR
VERSION:2.0
PRODID:-//hacksw/handcal//NONSGML v1.0//EN
BEGIN:VEVENT
DTSTART:20241018T100000
DTEND:20241021T190000
LOCATION:Sofia
ORGANIZER;CN=LEA SAVARIEAU:MAILTO:savarieau.lea@hotmail.fr
SUMMARY:[AAEALO] Week-end à Sofia, capitale de la Bulgarie
DESCRIPTION:\nDécouvrez Sofia et la Culture Bulgare avec l'AAEALO !\nPréparé avec Horizons Balkans à l’intention de l'Association des Anciens Élèves et Amis des Langues'O (AAEALO). Plongez dans l'histoire...
URL:https://alumni.inalco.fr/fr/event/-aaealo-week-end-a-sofia-capitale-de-la-bulgarie/2024/10/18/1055
BEGIN:VALARM
TRIGGER:-P0DT1H0M0S
ACTION:DISPLAY
END:VALARM
END:VEVENT
END:VCALENDAR