BEGIN:VCALENDAR
VERSION:2.0
PRODID:-//hacksw/handcal//NONSGML v1.0//EN
BEGIN:VEVENT
DTSTART:20250522T121500
DTEND:20250522T134500
LOCATION:Esplanade de La Défense - Métro ligne 1 \n92800 Puteaux
ORGANIZER;CN=LEA SAVARIEAU:MAILTO:savarieau.lea@hotmail.fr
SUMMARY:[AAEALO] Déjeuner des anciens élèves des Langues O à l’Esplanade de La Défense
DESCRIPTION:🥗 Déjeuner des anciens élèves des Langues O à l’Esplanade de La DéfenseVous travaillez près de la Défense et avez étudié à l’Inalco ?\nRejoignez d’autres alumni pour un déjeuner en toute simplicité et...
URL:https://alumni.inalco.fr/fr/event/-aaealo-dejeuner-des-anciens-eleves-des-langues-o-a-l-esplanade-de-la-defense/2025/05/22/1119
BEGIN:VALARM
TRIGGER:-P0DT1H0M0S
ACTION:DISPLAY
END:VALARM
END:VEVENT
END:VCALENDAR