BEGIN:VCALENDAR
VERSION:2.0
PRODID:-//hacksw/handcal//NONSGML v1.0//EN
BEGIN:VEVENT
DTSTART:20250523T183000
DTEND:20250523T213000
LOCATION:Cactus Bar \n12 Pl. Saint-Paul \n69005  Lyon
ORGANIZER;CN=LEA SAVARIEAU:MAILTO:savarieau.lea@hotmail.fr
SUMMARY:[AAEALO] Afterwork des anciens élèves à Lyon
DESCRIPTION:\nChers alumni de l'Inalco,\nNous avons le plaisir de vous inviter à un afterwork convivial entre anciens élèves et amis de l'Inalco à Lyon, le vendredi 23 mai 2025.\nCe sera l’occasion de se...
URL:https://alumni.inalco.fr/fr/event/-aaealo-afterwork-des-anciens-eleves-a-lyon/2025/05/23/1120
BEGIN:VALARM
TRIGGER:-P0DT1H0M0S
ACTION:DISPLAY
END:VALARM
END:VEVENT
END:VCALENDAR