BEGIN:VCALENDAR
VERSION:2.0
PRODID:-//hacksw/handcal//NONSGML v1.0//EN
BEGIN:VEVENT
DTSTART:20250606T190000
DTEND:20250606T223000
LOCATION:Péniche Anako \nBassin de la Villette, face au 34 Quai de la Loire \n75019 Paris
ORGANIZER;CN=ANAELLE DURAND:MAILTO:anaelle_durand@hotmail.fr
SUMMARY:[AAEALO] Concert - Diomira - Péniche Anako [COMPLET]
DESCRIPTION:DIOMIRA EN CONCERT\nIntroduit par une conférence "Introduction aux répertoires traditionnels grecs et turcs"\nUn événement organisé par l’Association des Anciens Élèves et Amis des Langues Orientales ...
URL:https://alumni.inalco.fr/fr/event/-aaealo-concert-diomira-peniche-anako-complet/2025/06/06/1121
BEGIN:VALARM
TRIGGER:-P0DT1H0M0S
ACTION:DISPLAY
END:VALARM
END:VEVENT
END:VCALENDAR