BEGIN:VCALENDAR
VERSION:2.0
PRODID:-//hacksw/handcal//NONSGML v1.0//EN
BEGIN:VEVENT
DTSTART:20250923T180000
DTEND:20250923T200000
LOCATION:Halles de l'Île \nPlace de l'Ile 1   \n1204  Genève
ORGANIZER;CN=LEA SAVARIEAU:MAILTO:savarieau.lea@hotmail.fr
SUMMARY:[AAEALO] Afterwork des anciens élèves des langues O' à Genève
DESCRIPTION:\nChers alumni et amis de l’Inalco à Genève,\nNous avons le plaisir de vous inviter à un afterwork convivial entre anciens élèves et amis de l’Inalco, le mardi 23 septembre 2025 à partir de 18h00, à...
URL:https://alumni.inalco.fr/fr/event/-aaealo-afterwork-des-anciens-eleves-des-langues-o-a-geneve/2025/09/23/1127
BEGIN:VALARM
TRIGGER:-P0DT1H0M0S
ACTION:DISPLAY
END:VALARM
END:VEVENT
END:VCALENDAR