BEGIN:VCALENDAR
VERSION:2.0
PRODID:-//hacksw/handcal//NONSGML v1.0//EN
BEGIN:VEVENT
DTSTART:20251127T183000
DTEND:20251127T210000
LOCATION:Salons Borel et de Tassy - Inalco \n2 rue de Lille \n75007 Paris
ORGANIZER;CN=LEA SAVARIEAU:MAILTO:savarieau.lea@hotmail.fr
SUMMARY:NETWORKING AAEALO - NOVEMBRE 2025
DESCRIPTION:\nRejoignez-nous pour le networking de l’AAÉALO et élargissez votre réseau dans une ambiance conviviale !\n📆 Quand ? jeudi 27 novembre 2025 de 18h30 à 21h00\n📍 Où ? Inalco (Maison de la Recherche), 2 ...
URL:https://alumni.inalco.fr/fr/event/networking-aaealo-novembre-2025/2025/11/27/1131
BEGIN:VALARM
TRIGGER:-P0DT1H0M0S
ACTION:DISPLAY
END:VALARM
END:VEVENT
END:VCALENDAR