BEGIN:VCALENDAR
VERSION:2.0
PRODID:-//hacksw/handcal//NONSGML v1.0//EN
BEGIN:VEVENT
DTSTART:20260110T140000
DTEND:20260110T153000
LOCATION:Hôtel Cabu - Musée d'Histoire et d'Archéologie \nSquare Abbé Desnoyers, 1,  \n45000  Orléans
ORGANIZER;CN=LEA SAVARIEAU:MAILTO:savarieau.lea@hotmail.fr
SUMMARY:[AAEALO] - Visite guidée de l'exposition "L'Ombre et la Grâce Souvenirs du Monde flottant" - Hôtel CABU, Orléans
DESCRIPTION:Visite guidée de l’exposition « L’Ombre et la Grâce. Souvenirs du Monde flottant »Organisée par l’Association des Anciens Élèves et Amis des Langues Orientales (AAÉALO)📅 Informations principalesDate :...
URL:https://alumni.inalco.fr/fr/event/-aaealo-visite-guidee-de-l-exposition-l-ombre-et-la-grace-souvenirs-du-monde-flottant-hotel-cabu-orleans/2026/01/10/1134
BEGIN:VALARM
TRIGGER:-P0DT1H0M0S
ACTION:DISPLAY
END:VALARM
END:VEVENT
END:VCALENDAR