BEGIN:VCALENDAR
VERSION:2.0
PRODID:-//hacksw/handcal//NONSGML v1.0//EN
BEGIN:VEVENT
DTSTART:20251002T180000
DTEND:20251002T190000
LOCATION:Amphithéâtre 8 - Inalco, PLC \n65 rue des grands moulins \n75013 Paris
ORGANIZER;CN=LEA SAVARIEAU:MAILTO:savarieau.lea@hotmail.fr
SUMMARY:Table ronde – Les métiers de la traduction
DESCRIPTION:Table ronde – Les métiers de la traductionOrganisée par l’AAÉALO (Association des Anciens Élèves et Amis des Langues O’)\nEn partenariat avec le SIOIP de l’Inalco\n📍 Lieu : Inalco – PLC, Amphithéâtre ...
URL:https://alumni.inalco.fr/fr/event/table-ronde-les-metiers-de-la-traduction/2025/10/02/1144
BEGIN:VALARM
TRIGGER:-P0DT1H0M0S
ACTION:DISPLAY
END:VALARM
END:VEVENT
END:VCALENDAR