BEGIN:VCALENDAR
VERSION:2.0
PRODID:-//hacksw/handcal//NONSGML v1.0//EN
BEGIN:VEVENT
DTSTART:20251211T183000
DTEND:20251211T203000
LOCATION:Galerie 88 \n88 Quai de l'Hôtel de ville \n75004  Paris
ORGANIZER;CN=LEA SAVARIEAU:MAILTO:savarieau.lea@hotmail.fr
SUMMARY:[AAEALO] Afterwork des anciens élèves de la filière TAL à Paris
DESCRIPTION:\nChers alumni de l'Inalco,\nNous avons le plaisir de vous inviter à un afterwork convivial entre anciens élèves et amis de l'Inalco issue de la filière Traitement Automatique des langues (TAL), le...
URL:https://alumni.inalco.fr/fr/event/-aaealo-afterwork-des-anciens-eleves-de-la-filiere-tal-a-paris/2025/12/11/1151
BEGIN:VALARM
TRIGGER:-P0DT1H0M0S
ACTION:DISPLAY
END:VALARM
END:VEVENT
END:VCALENDAR