BEGIN:VCALENDAR
VERSION:2.0
PRODID:-//hacksw/handcal//NONSGML v1.0//EN
BEGIN:VEVENT
DTSTART:20251121T183000
DTEND:20251121T210000
LOCATION:Tokyo
ORGANIZER;CN=LEA SAVARIEAU:MAILTO:savarieau.lea@hotmail.fr
SUMMARY:[AAEALO] Invitation - Rencontre avec Alain Wacziarg à Tokyo
DESCRIPTION:\nChers Alumni de l’Inalco au Japon,\nSuite à la visioconférence particulièrement enrichissante du 17 octobre dernier avec Alain Wacziarg, nous avons le plaisir de vous inviter à un moment de...
URL:https://alumni.inalco.fr/fr/event/-aaealo-invitation-rencontre-avec-alain-wacziarg-a-tokyo/2025/11/21/1153
BEGIN:VALARM
TRIGGER:-P0DT1H0M0S
ACTION:DISPLAY
END:VALARM
END:VEVENT
END:VCALENDAR