BEGIN:VCALENDAR
VERSION:2.0
PRODID:-//hacksw/handcal//NONSGML v1.0//EN
BEGIN:VEVENT
DTSTART:20251209T183000
DTEND:20251209T193000
LOCATION:Amphithéâtre 7 - Inalco, PLC \n65 rue des Grands Moulins \n75013 Paris
ORGANIZER;CN=LEA SAVARIEAU:MAILTO:savarieau.lea@hotmail.fr
SUMMARY:Table ronde – Les métiers du MEAE
DESCRIPTION:Table ronde – Les métiers du MEAE Organisée par l’AAÉALO (Association des Anciens Élèves et Amis des Langues O’)\nEn partenariat avec le SIOIP de l’Inalco\n📍 Lieu : Inalco – PLC, Amphithéâtre 7\n🗓️...
URL:https://alumni.inalco.fr/fr/event/table-ronde-les-metiers-du-meae/2025/12/09/1155
BEGIN:VALARM
TRIGGER:-P0DT1H0M0S
ACTION:DISPLAY
END:VALARM
END:VEVENT
END:VCALENDAR