BEGIN:VCALENDAR
VERSION:2.0
PRODID:-//hacksw/handcal//NONSGML v1.0//EN
BEGIN:VEVENT
DTSTART:20260210T183000
DTEND:20260210T193000
LOCATION:Amphithéâtre 7 - Inalco, PLC \n65 rue des Grands Moulins \n75013 Paris
ORGANIZER;CN=LEA SAVARIEAU:MAILTO:savarieau.lea@hotmail.fr
SUMMARY:Table ronde – Les métiers dans les ONG
DESCRIPTION:Table ronde – Les métiers dans les ONGOrganisée par l’AAÉALO (Association des Anciens Élèves et Amis des Langues O’)\nEn partenariat avec le SIOIP de l’Inalco\n📍 Lieu : Inalco – PLC, Amphithéâtre7\n🗓️...
URL:https://alumni.inalco.fr/fr/event/table-ronde-les-metiers-dans-les-ong/2026/02/10/1164
BEGIN:VALARM
TRIGGER:-P0DT1H0M0S
ACTION:DISPLAY
END:VALARM
END:VEVENT
END:VCALENDAR