BEGIN:VCALENDAR
VERSION:2.0
PRODID:-//hacksw/handcal//NONSGML v1.0//EN
BEGIN:VEVENT
DTSTART:20251217T121500
DTEND:20251217T131500
LOCATION:Shoryu Soho \n3 Denman St, London W1D 7HB, Royaume-Uni
ORGANIZER;CN=LEA SAVARIEAU:MAILTO:savarieau.lea@hotmail.fr
SUMMARY:[AAEALO] Déjeuner des anciens élèves des langues O' à Londres
DESCRIPTION:\nChers alumni de l'Inalco,\nNous avons le plaisir de vous inviter à un déjeuner convivial entre anciens élèves de l'INALCO à Londres le mercredi 17 décembre 2025. Ce sera un moment privilégié pour...
URL:https://alumni.inalco.fr/fr/event/-aaealo-dejeuner-des-anciens-eleves-des-langues-o-a-londres/2025/12/17/1166
BEGIN:VALARM
TRIGGER:-P0DT1H0M0S
ACTION:DISPLAY
END:VALARM
END:VEVENT
END:VCALENDAR