BEGIN:VCALENDAR
VERSION:2.0
PRODID:-//hacksw/handcal//NONSGML v1.0//EN
BEGIN:VEVENT
DTSTART:20251211T190000
DTEND:20251211T213000
LOCATION:Restaurant - Kusadasi \n6 Rue Armand Brossard \n44000  Nantes
ORGANIZER;CN=LEA SAVARIEAU:MAILTO:savarieau.lea@hotmail.fr
SUMMARY:[AAEALO] Dîner des anciens élèves à Nantes
DESCRIPTION:\nChers alumni de l'Inalco,\nNous avons le plaisir de vous inviter à un dîner convivial entre anciens élèves et amis de l'Inalco à Nantes, le jeudi 11 décembre 2025.\nCe sera l’occasion de se...
URL:https://alumni.inalco.fr/fr/event/-aaealo-diner-des-anciens-eleves-a-nantes/2025/12/11/1170
BEGIN:VALARM
TRIGGER:-P0DT1H0M0S
ACTION:DISPLAY
END:VALARM
END:VEVENT
END:VCALENDAR