BEGIN:VCALENDAR
VERSION:2.0
PRODID:-//hacksw/handcal//NONSGML v1.0//EN
BEGIN:VEVENT
DTSTART:20260212T183000
DTEND:20260212T213000
LOCATION:Choubichou  \n5 Rue Mondétour \n75001 Paris
ORGANIZER;CN=LEA SAVARIEAU:MAILTO:savarieau.lea@hotmail.fr
SUMMARY:[AAEALO] Afterwork des anciens élèves de la filière Communication Interculturelle (CFI, COCI, Com2i) à Paris
DESCRIPTION:\nChers alumni de l'Inalco,\nNous avons le plaisir de vous inviter à un afterwork convivial entre anciens élèves et amis de l'Inalco issue de la filière Communication Interculturelle (CFI, COCI,...
URL:https://alumni.inalco.fr/fr/event/-aaealo-afterwork-des-anciens-eleves-de-la-filiere-communication-interculturelle-cfi-coci-com2i-a-paris/2026/02/12/1172
BEGIN:VALARM
TRIGGER:-P0DT1H0M0S
ACTION:DISPLAY
END:VALARM
END:VEVENT
END:VCALENDAR