BEGIN:VCALENDAR
VERSION:2.0
PRODID:-//hacksw/handcal//NONSGML v1.0//EN
BEGIN:VEVENT
DTSTART:20260126T193000
DTEND:20260126T213000
LOCATION:Molly's \n91 Rue de Charenton \n75012 Paris
ORGANIZER;CN=ANAELLE DURAND:MAILTO:anaelle_durand@hotmail.fr
SUMMARY:[AAEALO] Soirée quiz au Molly's
DESCRIPTION:\nChers alumni, étudiants et membres du personnel de l'Inalco,\nNous avons le plaisir de vous inviter à une soirée quiz au pub irlandais Molly's, le lundi 26 janvier 2026, organisée en collaboration...
URL:https://alumni.inalco.fr/fr/event/-aaealo-soiree-quiz-au-molly-s/2026/01/26/1174
BEGIN:VALARM
TRIGGER:-P0DT1H0M0S
ACTION:DISPLAY
END:VALARM
END:VEVENT
END:VCALENDAR