BEGIN:VCALENDAR
VERSION:2.0
PRODID:-//hacksw/handcal//NONSGML v1.0//EN
BEGIN:VEVENT
DTSTART:20260211T190000
DTEND:20260211T210000
LOCATION:Auditorium de l’Inalco \n65, rue des Grands Moulins  \n75013 Paris
ORGANIZER;CN=LEA SAVARIEAU:MAILTO:savarieau.lea@hotmail.fr
SUMMARY:Projection-débat – La vie d’Hawa
DESCRIPTION:\nProjection du film La vie d’Hawa (2024, 84 min), réalisé par Najiba Noori.\n📅 Mercredi 11 février 2026🕖 19h00 – 21h00📍 Auditorium de l’Inalco65, rue des Grands Moulins – Paris 13e\n🎟 Entrée gratuite...
URL:https://alumni.inalco.fr/fr/event/projection-debat-la-vie-d-hawa/2026/02/11/1175
BEGIN:VALARM
TRIGGER:-P0DT1H0M0S
ACTION:DISPLAY
END:VALARM
END:VEVENT
END:VCALENDAR