BEGIN:VCALENDAR
VERSION:2.0
PRODID:-//hacksw/handcal//NONSGML v1.0//EN
BEGIN:VEVENT
DTSTART:20260306T190000
DTEND:20260306T210000
LOCATION:Kenji & Louise \n22 Rue Armand Brossard \n44000  Nantes
ORGANIZER;CN=JOY MELLOUL:MAILTO:
SUMMARY:[AAEALO] Dîner des anciens élèves à Nantes
DESCRIPTION:\nChers alumni de l’Inalco,\nNous avons le plaisir de vous inviter à un dîner convivial entre anciens élèves et amis de l’Inalco à Nantes, le vendredi 6 mars 2026 à partir de 19h00.\nCe sera...
URL:https://alumni.inalco.fr/fr/event/-aaealo-diner-des-anciens-eleves-a-nantes/2026/03/06/1184
BEGIN:VALARM
TRIGGER:-P0DT1H0M0S
ACTION:DISPLAY
END:VALARM
END:VEVENT
END:VCALENDAR