BEGIN:VCALENDAR
VERSION:2.0
PRODID:-//hacksw/handcal//NONSGML v1.0//EN
BEGIN:VEVENT
DTSTART:20260424T190000
DTEND:20260424T210000
LOCATION:층 르썽스유니크 Brasserie Le Sens Unique  \nYongsan District, Itaewon-dong, 34-24 1
ORGANIZER;CN=LEA SAVARIEAU:MAILTO:savarieau.lea@hotmail.fr
SUMMARY:[AAEALO] Invitation - Rencontre à Séoul
DESCRIPTION:\nChers Alumni de l’Inalco à Séoul,\nNous avons le plaisir de vous inviter à un moment convivial entre ancien·nes élèves de l’Inalco installé·es en Corée, le vendredi 24 avril 2026 à 19h.Cette...
URL:https://alumni.inalco.fr/fr/event/-aaealo-invitation-rencontre-a-seoul/2026/04/24/1188
BEGIN:VALARM
TRIGGER:-P0DT1H0M0S
ACTION:DISPLAY
END:VALARM
END:VEVENT
END:VCALENDAR