BEGIN:VCALENDAR
VERSION:2.0
PRODID:-//hacksw/handcal//NONSGML v1.0//EN
BEGIN:VEVENT
DTSTART:20170126T183000
DTEND:20170126T201500
LOCATION:Inalco Amphi 3 \n65, Rue des Grands Moulins \n75013 PARIS-13E-ARRONDISSEMENT
ORGANIZER;CN=Albane de CARMOY:MAILTO:albanedecarmoy@gmail.com
SUMMARY:Du riz gluant à la pizza. Les évolutions de l'alimentation au Laos en milieu urbain
DESCRIPTION:\nLe Laos connaît actuellement des mutations profondes, entre autres dans les domaines économique, démographique, social et culturel. Le pays s’urbanise, s’industrialise, les infrastructures se...
URL:https://alumni.inalco.fr/fr/event/du-riz-gluant-a-la-pizza-les-evolutions-de-l-alimentation-au-laos-en-milieu-urbain/2017/01/26/153
BEGIN:VALARM
TRIGGER:-P0DT1H0M0S
ACTION:DISPLAY
END:VALARM
END:VEVENT
END:VCALENDAR