BEGIN:VCALENDAR
VERSION:2.0
PRODID:-//hacksw/handcal//NONSGML v1.0//EN
BEGIN:VEVENT
DTSTART:20170228T180000
DTEND:20170228T200000
LOCATION:Inalco - Salon d'honneur \n2, Rue de Lille \n75007 PARIS-7E-ARRONDISSEMENT
ORGANIZER;CN=ALBANE DE CARMOY:MAILTO:albanedecarmoy@gmail.com
SUMMARY:[AAEALO] Conférence de présentation de la nouvelle revue Orients
DESCRIPTION:Invitation sur réservation uniquement dans la limite des places disponibles\nÀ l'occasion de la sortie du nouveau numéro thématique d'Orients, l'association des anciens élèves, en partenariat avec...
URL:https://alumni.inalco.fr/fr/event/-aaealo-conference-de-presentation-de-la-nouvelle-revue-orients/2017/02/28/163
BEGIN:VALARM
TRIGGER:-P0DT1H0M0S
ACTION:DISPLAY
END:VALARM
END:VEVENT
END:VCALENDAR