BEGIN:VCALENDAR
VERSION:2.0
PRODID:-//hacksw/handcal//NONSGML v1.0//EN
BEGIN:VEVENT
DTSTART:20160323T150000
DTEND:20160323T180000
LOCATION:Galerie du Pôle des langues et civilisations
ORGANIZER;CN=Alain Schneider:MAILTO:alain@schneider.as
SUMMARY:Photos d'Éthiopie de Erwan Guillard
DESCRIPTION:Le vernissage de l'exposition Photos d'Éthiopie de Erwan Guillard aura lieu le 23 mars 2016 à l'INALCO.\nL'exposition est proposée par l'association Afrinalco\nElle sera ouverte du 23 mars au 09 avril...
URL:https://alumni.inalco.fr/fr/event/photos-d-ethiopie-de-erwan-guillard/2016/03/23/27
BEGIN:VALARM
TRIGGER:-P0DT1H0M0S
ACTION:DISPLAY
END:VALARM
END:VEVENT
END:VCALENDAR