BEGIN:VCALENDAR
VERSION:2.0
PRODID:-//hacksw/handcal//NONSGML v1.0//EN
BEGIN:VEVENT
DTSTART:20180912T190000
DTEND:20180912T220000
LOCATION:Tokyo
ORGANIZER;CN=Héloïse temps - Anciens élèves et étudiants en échange au Japon:MAILTO:heloise.temps@inalco.fr
SUMMARY:Pot convivial Inalco Alumni au Japon
DESCRIPTION:\nEn vue du lancement du groupe Inalco Alumni au Japon, nous organisons  une réunion amicale des diplômés résidant au Japon, quelle qu'ait été leur langue de travail.\nCette première réunion sera...
URL:https://alumni.inalco.fr/fr/group/anciens-eleves-et-etudiants-en-echange-au-japon/67/calendar/pot-convivial-inalco-alumni-au-japon/2018/09/12/270
BEGIN:VALARM
TRIGGER:-P0DT1H0M0S
ACTION:DISPLAY
END:VALARM
END:VEVENT
END:VCALENDAR