BEGIN:VCALENDAR
VERSION:2.0
PRODID:-//hacksw/handcal//NONSGML v1.0//EN
BEGIN:VEVENT
DTSTART:20181025T093000
DTEND:20181026T173000
LOCATION:Maison de la recherche \n4, Rue des Irlandais \n75005 PARIS
ORGANIZER;CN=Emilie Thiaw-wing:MAILTO:
SUMMARY:Inventer la littérature française dans un Etat totalitaire
DESCRIPTION:\nComment des régimes fabriquent-ils une littérature française à leur image et à leur ressemblance ? Comment choisit-on des œuvres à traduire pour créer une littéraire française soviétique, chinoise, ...
URL:https://alumni.inalco.fr/fr/event/inventer-la-litterature-francaise-dans-un-etat-totalitaire/2018/10/25/287
BEGIN:VALARM
TRIGGER:-P0DT1H0M0S
ACTION:DISPLAY
END:VALARM
END:VEVENT
END:VCALENDAR