BEGIN:VCALENDAR
VERSION:2.0
PRODID:-//hacksw/handcal//NONSGML v1.0//EN
BEGIN:VEVENT
DTSTART:20190212T183000
DTEND:20190212T200000
LOCATION:Bibliothèque François Mitterrand \nQuai François Mauriac \n75013 PARIS
ORGANIZER;CN=ALEXIA MARIE:MAILTO:alexia.marie@lilo.org
SUMMARY:Masterclass avec Mathias Enard (persan, arabe, langues iraniennes 1995)
DESCRIPTION:\nMathias Énard (persan, arabe, langues iraniennes 1995) s'entretient avec Zoé Sfez (France Culture), lors d'une masterclass autour de ses œuvres.\nMathias Enard est né en 1972 à Niort. Il étudie...
URL:https://alumni.inalco.fr/fr/event/masterclass-avec-mathias-enard-persan-arabe-langues-iraniennes-1995/2019/02/12/370
BEGIN:VALARM
TRIGGER:-P0DT1H0M0S
ACTION:DISPLAY
END:VALARM
END:VEVENT
END:VCALENDAR