BEGIN:VCALENDAR
VERSION:2.0
PRODID:-//hacksw/handcal//NONSGML v1.0//EN
BEGIN:VEVENT
DTSTART:20190312T183000
DTEND:20190312T200000
LOCATION:Inalco - Amphi 3 (2e étage) \n65, Rue des Grands Moulins \n75013 PARIS
ORGANIZER;CN=HELOISE TEMPS:MAILTO:heloise.temps@inalco.fr
SUMMARY:Les clés pour réussir ses entretiens d'embauche
DESCRIPTION:Le réseau Inalco Alumni est ravi d'accueillir Sylvie Schifflers et Gonzague Lefebvre pour une conférence sur les innovations dans le recrutement.\nQue vous soyez à la recherche d’un premier emploi, en...
URL:https://alumni.inalco.fr/fr/event/les-cles-pour-reussir-ses-entretiens-d-embauche/2019/03/12/379
BEGIN:VALARM
TRIGGER:-P0DT1H0M0S
ACTION:DISPLAY
END:VALARM
END:VEVENT
END:VCALENDAR