BEGIN:VCALENDAR
VERSION:2.0
PRODID:-//hacksw/handcal//NONSGML v1.0//EN
BEGIN:VEVENT
DTSTART:20190409T190000
DTEND:20190409T220000
LOCATION:Fushun House Restaurant \n2號, Lane 443, Guangfu South Road \n110 Taipei
ORGANIZER;CN=PATRICK NICOLOSO:MAILTO:nicolosopatrick@gmail.com
SUMMARY:[AAEALO] Dîner Inalco Alumni à Taipei
DESCRIPTION:  \nÀ l'occasion du voyage à Taïwan organisé par l'Association des anciens élèves et amis des Langues O' (AAÉALO), nous vous proposons de vous retrouver - anciens élèves résidant à Taïwan,...
URL:https://alumni.inalco.fr/fr/event/-aaealo-diner-inalco-alumni-a-taipei/2019/04/09/433
BEGIN:VALARM
TRIGGER:-P0DT1H0M0S
ACTION:DISPLAY
END:VALARM
END:VEVENT
END:VCALENDAR