BEGIN:VCALENDAR
VERSION:2.0
PRODID:-//hacksw/handcal//NONSGML v1.0//EN
BEGIN:VEVENT
DTSTART:20190921T090000
DTEND:20191026T210000
LOCATION:Inaclo - Galerie \n65, Rue des Grands Moulins \n75013 PARIS
ORGANIZER;CN=LEA ZAJAC:MAILTO:lea.zajac@inalco.fr
SUMMARY:Expositions : Autochtones du Nord Canadien
DESCRIPTION:Dans le cadre de l’année internationale des langues autochtones déclarée par l’UNESCO, la section Langues et Cultures des Amériques de l'Inalco propose deux expositions :- Cap au Grand Nord (Annick...
URL:https://alumni.inalco.fr/fr/event/expositions-autochtones-du-nord-canadien/2019/09/21/539
BEGIN:VALARM
TRIGGER:-P0DT1H0M0S
ACTION:DISPLAY
END:VALARM
END:VEVENT
END:VCALENDAR